BEGIN:VCALENDAR
VERSION:2.0
PRODID:-//Historical Society of the New York Courts - ECPv6.15.20//NONSGML v1.0//EN
CALSCALE:GREGORIAN
METHOD:PUBLISH
X-WR-CALNAME:Historical Society of the New York Courts
X-ORIGINAL-URL:https://history.nycourts.gov
X-WR-CALDESC:Events for Historical Society of the New York Courts
REFRESH-INTERVAL;VALUE=DURATION:PT1H
X-Robots-Tag:noindex
X-PUBLISHED-TTL:PT1H
BEGIN:VTIMEZONE
TZID:America/New_York
BEGIN:DAYLIGHT
TZOFFSETFROM:-0500
TZOFFSETTO:-0400
TZNAME:EDT
DTSTART:20180311T070000
END:DAYLIGHT
BEGIN:STANDARD
TZOFFSETFROM:-0400
TZOFFSETTO:-0500
TZNAME:EST
DTSTART:20181104T060000
END:STANDARD
BEGIN:DAYLIGHT
TZOFFSETFROM:-0500
TZOFFSETTO:-0400
TZNAME:EDT
DTSTART:20190310T070000
END:DAYLIGHT
BEGIN:STANDARD
TZOFFSETFROM:-0400
TZOFFSETTO:-0500
TZNAME:EST
DTSTART:20191103T060000
END:STANDARD
BEGIN:DAYLIGHT
TZOFFSETFROM:-0500
TZOFFSETTO:-0400
TZNAME:EDT
DTSTART:20200308T070000
END:DAYLIGHT
BEGIN:STANDARD
TZOFFSETFROM:-0400
TZOFFSETTO:-0500
TZNAME:EST
DTSTART:20201101T060000
END:STANDARD
END:VTIMEZONE
BEGIN:VEVENT
DTSTART;TZID=America/New_York:20191115T140000
DTEND;TZID=America/New_York:20191115T160000
DTSTAMP:20260424T153437
CREATED:20190909T195804Z
LAST-MODIFIED:20250701T194529Z
UID:8734-1573826400-1573833600@history.nycourts.gov
SUMMARY:Richmond County Courthouse Centennial: Its History\, Cases\, and Place in the Civic Life of Staten Island
DESCRIPTION:Richmond County Surrogate’s Court — 18 Richmond Terrace\, Staten Island\nHSoftheNYCourts Joins Richmond County Courthouse Centennial Celebrations!\nAs part of the Richmond County Courthouse Centennial celebrations\, the HSoftheNYCourts presented a program with speaker presentations examining the history of this majestic building and the importance of courthouse architecture in the civic life of New York past and present. The second part of the program was a panel of judges and lawyers looking back at notable cases litigated in its courtroom. \nSponsored by Richmond County Bar Association\nProgram\nIntroduction\nJohn Peter Sipp\, Esq.\, Chair of the Surrogate’s Court Committee\, Richmond County Bar Association \nWelcome\nStephen P. Younger\, Esq.\, Chair of the Board of Trustees\, HSoftheNYCourts and Partner\, Patterson Belknap Webb & Tyler LLP \nHistorical Presentations\nRobert Pigott\, Esq.\, Vice President & General Counsel\, Phipps Houses\nJon Ritter\, Clinical Associate Professor\, New York University \nPanel Discussion\nModerated by John Peter Sipp\, Esq.\nHon. Stephen J. Fiala\, Richmond County Clerk\nHon. Desmond A. Green\, Administrative Judge\, Supreme Court\, Richmond County\nHon. Daniel Leddy\, Former Judge\, Family Court\, Richmond County and Resident Historian\nHon. Judith Reeves McMahon\, Justice\, Supreme Court\, Richmond County\nHon. Matthew J. Titone\, Surrogate\, Surrogate’s Court\, Richmond County \nWatch the Program Video
URL:https://history.nycourts.gov/events/richmond-county-courthouse-centennial/
LOCATION:Richmond County Surrogate’s Court\, 18 Richmond Terrace - Richmond County Courthouse\, Staten Island\, NY\, 10301
CATEGORIES:Public Events
ATTACH;FMTTYPE=image/jpeg:https://history.nycourts.gov/wp-content/uploads/2019/09/Richmond-County-Courthouse-1938_Municipal-Archives_500x.jpg
END:VEVENT
END:VCALENDAR