BEGIN:VCALENDAR
VERSION:2.0
PRODID:-//Historical Society of the New York Courts - ECPv6.15.20//NONSGML v1.0//EN
CALSCALE:GREGORIAN
METHOD:PUBLISH
X-WR-CALNAME:Historical Society of the New York Courts
X-ORIGINAL-URL:https://history.nycourts.gov
X-WR-CALDESC:Events for Historical Society of the New York Courts
REFRESH-INTERVAL;VALUE=DURATION:PT1H
X-Robots-Tag:noindex
X-PUBLISHED-TTL:PT1H
BEGIN:VTIMEZONE
TZID:America/New_York
BEGIN:DAYLIGHT
TZOFFSETFROM:-0500
TZOFFSETTO:-0400
TZNAME:EDT
DTSTART:20020407T070000
END:DAYLIGHT
BEGIN:STANDARD
TZOFFSETFROM:-0400
TZOFFSETTO:-0500
TZNAME:EST
DTSTART:20021027T060000
END:STANDARD
BEGIN:DAYLIGHT
TZOFFSETFROM:-0500
TZOFFSETTO:-0400
TZNAME:EDT
DTSTART:20030406T070000
END:DAYLIGHT
BEGIN:STANDARD
TZOFFSETFROM:-0400
TZOFFSETTO:-0500
TZNAME:EST
DTSTART:20031026T060000
END:STANDARD
BEGIN:DAYLIGHT
TZOFFSETFROM:-0500
TZOFFSETTO:-0400
TZNAME:EDT
DTSTART:20040404T070000
END:DAYLIGHT
BEGIN:STANDARD
TZOFFSETFROM:-0400
TZOFFSETTO:-0500
TZNAME:EST
DTSTART:20041031T060000
END:STANDARD
BEGIN:DAYLIGHT
TZOFFSETFROM:-0500
TZOFFSETTO:-0400
TZNAME:EDT
DTSTART:20050403T070000
END:DAYLIGHT
BEGIN:STANDARD
TZOFFSETFROM:-0400
TZOFFSETTO:-0500
TZNAME:EST
DTSTART:20051030T060000
END:STANDARD
BEGIN:DAYLIGHT
TZOFFSETFROM:-0500
TZOFFSETTO:-0400
TZNAME:EDT
DTSTART:20060402T070000
END:DAYLIGHT
BEGIN:STANDARD
TZOFFSETFROM:-0400
TZOFFSETTO:-0500
TZNAME:EST
DTSTART:20061029T060000
END:STANDARD
BEGIN:DAYLIGHT
TZOFFSETFROM:-0500
TZOFFSETTO:-0400
TZNAME:EDT
DTSTART:20070311T070000
END:DAYLIGHT
BEGIN:STANDARD
TZOFFSETFROM:-0400
TZOFFSETTO:-0500
TZNAME:EST
DTSTART:20071104T060000
END:STANDARD
END:VTIMEZONE
BEGIN:VEVENT
DTSTART;VALUE=DATE:20060323
DTEND;VALUE=DATE:20060324
DTSTAMP:20260425T181159
CREATED:20190918T184814Z
LAST-MODIFIED:20220225T212815Z
UID:8869-1143072000-1143158399@history.nycourts.gov
SUMMARY:NY Times v. Sullivan and its Times: The Press and the Community
DESCRIPTION:NY Court of Appeals Lecture Series – Inaugural Lecture\nNYS Court of Appeals Hall\nCo-sponsored by the Historical Society of the New York Courts. \nLECTURE\nKermit Hall\, President of the State University at Albany
URL:https://history.nycourts.gov/events/ny-times-v-sullivan-and-its-times-the-press-and-the-community/
LOCATION:New York State Court of Appeals\, 20 Eagle Street\, Albany\, NY\, 12207
CATEGORIES:Public Events
END:VEVENT
BEGIN:VEVENT
DTSTART;VALUE=DATE:20050919
DTEND;VALUE=DATE:20050920
DTSTAMP:20260425T181159
CREATED:20190918T212652Z
LAST-MODIFIED:20250709T201817Z
UID:8892-1127088000-1127174399@history.nycourts.gov
SUMMARY:An Empire of Reason: The History of Federalism in America
DESCRIPTION:New York City Bar Association\nPROGRAM\nWELCOME\nHon. Judith S. Kaye\, Chief Judge of the State of New York \nSPEAKERS\nHon. Richard C. Wesley\, Judge\, U.S. Court of Appeals\, Second Circuit\nFrancois Giroday\, Stage and Film Actor\nMuffie Meyer\, President\, Middlemarch Films \nCLOSING\nHon. Albert M. Rosenblatt\, President\, Historical Society of the New York Courts \n\nWatch the video presented by the New York Bar Foundation
URL:https://history.nycourts.gov/events/an-empire-of-reason-the-history-of-federalism-in-america/
LOCATION:New York City Bar Association\, 42 West 44th Street\, New York\, NY\, 10036\, United States
CATEGORIES:Public Events
END:VEVENT
BEGIN:VEVENT
DTSTART;VALUE=DATE:20050512
DTEND;VALUE=DATE:20050513
DTSTAMP:20260425T181159
CREATED:20190918T213010Z
LAST-MODIFIED:20220225T212828Z
UID:8896-1115856000-1115942399@history.nycourts.gov
SUMMARY:David Dudley Field and the Code Concept
DESCRIPTION:New York City Bar Association\nPROGRAM\nWELCOME\nHon. Judith S. Kaye\, Chief Judge of the State of New York \nPRINCIPAL SPEAKERS\nTed Widmer\, Director of the C.V. Starr Center for the Study of the American Experience Washington College\, Chesterton\, MD.\nPhilip J. Bergan\, Lawyer and Legal Historian\nDavid D. Siegel\, Distinguished Professor of Law\, Albany Law School\, Albany\, NY \nCOMMENTARY\nHon. John M. Walker\, Jr.\, Chief Judge\, U.S. Court of Appeals for the Second Circuit \nCLOSING\nHon. Albert M. Rosenblatt\, President\, Historical Society of the New York Courts
URL:https://history.nycourts.gov/events/david-dudley-field-and-the-code-concept/
LOCATION:New York City Bar Association\, 42 West 44th Street\, New York\, NY\, 10036\, United States
CATEGORIES:Public Events
END:VEVENT
BEGIN:VEVENT
DTSTART;VALUE=DATE:20040512
DTEND;VALUE=DATE:20040513
DTSTAMP:20260425T181159
CREATED:20190918T213210Z
LAST-MODIFIED:20220225T212834Z
UID:8898-1084320000-1084406399@history.nycourts.gov
SUMMARY:Chancellor James Kent and the Origins of Law Reporting and Legal Education
DESCRIPTION:New York City Bar Association\nPROGRAM\nWELCOME\nHon. Judith S. Kaye\, Chief Judge of the State of New York \nOPENING\nGary D. Spivey\, New York State Law Reporter \nLECTURE\nJohn J. Langbein\, Sterling Professor of Law and Legal History\, Yale University \nCOMMENTARY\nHon. John M. Walker\, Jr.\, Chief Judge\, U.S. Court of Appeals for the Second Circuit \nCLOSING\nHon. Albert M. Rosenblatt\, Associate Judge\, New York State Court of Appeals \n 
URL:https://history.nycourts.gov/events/chancellor-james-kent-and-the-origins-of-law-reporting-and-legal-education/
LOCATION:New York City Bar Association\, 42 West 44th Street\, New York\, NY\, 10036\, United States
CATEGORIES:Public Events
ATTACH;FMTTYPE=image/jpeg:https://history.nycourts.gov/wp-content/uploads/2019/09/kent-james-1-scaled.jpg
END:VEVENT
BEGIN:VEVENT
DTSTART;VALUE=DATE:20030422
DTEND;VALUE=DATE:20030423
DTSTAMP:20260425T181159
CREATED:20190918T213417Z
LAST-MODIFIED:20220422T204118Z
UID:8900-1050969600-1051055999@history.nycourts.gov
SUMMARY:The Framing of the Constitution: New York's Role
DESCRIPTION:New York City Bar Association\n—No video recording of this program is available— \nPROGRAM\nWELCOME\nHon. Judith S. Kaye\, Chief Judge of the State of New York \nSPEAKER PRESENTATIONS \nRIGHTS\, REVOLUTION AND RATIFICATION IN NEW YORK\nPauline Maier \nRATIFICATION AS A REVOLUTIONARY MOMENT\nJohn M. Murrin \nCREATING THE EMPIRE STATE: THE ANTIFEDERALIST AND FEDERALIST PERSPECTIVES\nJohn P. Kaminski \nCOMMENTARY\nHon. John M. Walker\, Jr.\, Chief Judge\, U.S. Court of Appeals for the Second Circuit \nCLOSING\nHon. Albert M. Rosenblatt\, Associate Judge\, New York State Court of Appeals
URL:https://history.nycourts.gov/events/the-framing-of-the-constitution-new-yorks-role/
LOCATION:New York City Bar Association\, 42 West 44th Street\, New York\, NY\, 10036\, United States
CATEGORIES:Public Events
END:VEVENT
END:VCALENDAR