BEGIN:VCALENDAR
VERSION:2.0
PRODID:-//Historical Society of the New York Courts - ECPv6.15.20//NONSGML v1.0//EN
CALSCALE:GREGORIAN
METHOD:PUBLISH
X-WR-CALNAME:Historical Society of the New York Courts
X-ORIGINAL-URL:https://history.nycourts.gov
X-WR-CALDESC:Events for Historical Society of the New York Courts
REFRESH-INTERVAL;VALUE=DURATION:PT1H
X-Robots-Tag:noindex
X-PUBLISHED-TTL:PT1H
BEGIN:VTIMEZONE
TZID:America/New_York
BEGIN:DAYLIGHT
TZOFFSETFROM:-0500
TZOFFSETTO:-0400
TZNAME:EDT
DTSTART:20250309T070000
END:DAYLIGHT
BEGIN:STANDARD
TZOFFSETFROM:-0400
TZOFFSETTO:-0500
TZNAME:EST
DTSTART:20251102T060000
END:STANDARD
BEGIN:DAYLIGHT
TZOFFSETFROM:-0500
TZOFFSETTO:-0400
TZNAME:EDT
DTSTART:20260308T070000
END:DAYLIGHT
BEGIN:STANDARD
TZOFFSETFROM:-0400
TZOFFSETTO:-0500
TZNAME:EST
DTSTART:20261101T060000
END:STANDARD
BEGIN:DAYLIGHT
TZOFFSETFROM:-0500
TZOFFSETTO:-0400
TZNAME:EDT
DTSTART:20270314T070000
END:DAYLIGHT
BEGIN:STANDARD
TZOFFSETFROM:-0400
TZOFFSETTO:-0500
TZNAME:EST
DTSTART:20271107T060000
END:STANDARD
END:VTIMEZONE
BEGIN:VEVENT
DTSTART;TZID=America/New_York:20260428T180000
DTEND;TZID=America/New_York:20260428T200000
DTSTAMP:20260424T184607
CREATED:20260316T140135Z
LAST-MODIFIED:20260316T201522Z
UID:22532-1777399200-1777406400@history.nycourts.gov
SUMMARY:The Constitution's Framers: What They Teach Us About Making America Better
DESCRIPTION:Presented by the Supreme Court of the State of New York\, Appellate Division\, First Department and the Historical Society of the New York Courts\, In Observance of Law Day\nIn-Person Only • Appellate Division\, First Department (27 Madison Avenue\, New York\, NY 10010)\nFree CLE Credit \nFeaturing a talk with John D. Feerick\, Norris Professor of Law\, Fordham Law School Dean Emeritus\, Fordham Law School \nPanel Discussion to Follow with:\nWilliam M. Treanor\, Dean Emeritus\, Georgetown University Law Center & Fordham Law School\nJohn Rogan\, Senior Fellow\, Fordham Law School \n  \n Register Now
URL:https://history.nycourts.gov/events/constitution-framers-observance-law-day/
CATEGORIES:Public Events
ATTACH;FMTTYPE=image/jpeg:https://history.nycourts.gov/wp-content/uploads/2026/03/scene_at_the_signing_of_the_constitution_of_the_un.jpg
END:VEVENT
BEGIN:VEVENT
DTSTART;TZID=America/New_York:20260505T173000
DTEND;TZID=America/New_York:20260505T200000
DTSTAMP:20260424T184607
CREATED:20260316T140038Z
LAST-MODIFIED:20260414T184721Z
UID:22527-1778002200-1778011200@history.nycourts.gov
SUMMARY:New York’s Own Revolution: The Anti-Rent War of the Hudson Valley & Its Relevance Today
DESCRIPTION:Presented by the Historical Society of the New York Courts and the Supreme Court of the State of New York\, Appellate Division\, Third Department\, with support from the New York State Unified Court System Office for Justice Initiatives.\nIn-Person Only at Berne-Knox-Westerlo High School Auditorium (1738 Helderberg Trail\, Berne\, NY 12023)\nJoin the Society and the Appellate Division\, Third Department for a film screening and conversation about New York’s own revolution: The Anti-Rent War of the 1800s. This event will feature a screening of Calico Rebellion (directed by Victoria Kupchinetsky) as well as a panel discussion featuring Dr. Bruce W. Dearstyne\, Historian and Editor\, Revolutionary New York: 250 Years of Social Change\, and Dr. Nancy Newman\, Professor at University at Albany and Author\, Songs and Sounds of the Anti-Rent Movement in Upstate New York\, that highlights the history and legacy of the Anti-Rent War\, and how it is still relevant today. \n  \n Register Now
URL:https://history.nycourts.gov/events/ny-own-revolution-anti-rent-war/
CATEGORIES:Public Events
ATTACH;FMTTYPE=image/jpeg:https://history.nycourts.gov/wp-content/uploads/2026/03/Harry-T.-Peters-America-on-Stone-Lithography-Collection_crop-e1773763675278.jpg
END:VEVENT
END:VCALENDAR